Package: flowVS Version: 1.40.0 Command: /Library/Frameworks/R.framework/Resources/bin/R CMD check --install=check:flowVS.install-out.txt --library=/Library/Frameworks/R.framework/Resources/library --no-vignettes --timings flowVS_1.40.0.tar.gz StartedAt: 2025-10-14 21:55:43 -0400 (Tue, 14 Oct 2025) EndedAt: 2025-10-14 21:58:08 -0400 (Tue, 14 Oct 2025) EllapsedTime: 145.3 seconds RetCode: 0 Status: OK CheckDir: flowVS.Rcheck Warnings: 0