Package: flowTrans Version: 1.60.0 Command: E:\biocbuild\bbs-3.21-bioc\R\bin\R.exe CMD check --no-multiarch --install=check:flowTrans.install-out.txt --library=E:\biocbuild\bbs-3.21-bioc\R\library --no-vignettes --timings flowTrans_1.60.0.tar.gz StartedAt: 2025-08-15 02:18:12 -0400 (Fri, 15 Aug 2025) EndedAt: 2025-08-15 02:19:35 -0400 (Fri, 15 Aug 2025) EllapsedTime: 82.9 seconds RetCode: 0 Status: OK CheckDir: flowTrans.Rcheck Warnings: 0