Package: flowSpecs Version: 1.22.0 Command: /Library/Frameworks/R.framework/Resources/bin/R CMD build --keep-empty-dirs --no-resave-data flowSpecs StartedAt: 2025-10-14 00:32:42 -0400 (Tue, 14 Oct 2025) EndedAt: 2025-10-14 00:33:20 -0400 (Tue, 14 Oct 2025) EllapsedTime: 37.9 seconds RetCode: 0 Status: OK PackageFile: flowSpecs_1.22.0.tar.gz PackageFileSize: 4.748 MiB