Package: flowSpecs Version: 1.22.0 Maintainer: Jakob Theorell MaintainerEmail: jakob.theorell at ki.se git_url: https://git.bioconductor.org/packages/flowSpecs git_branch: RELEASE_3_21 git_last_commit: 93e3f20 git_last_commit_date: 2025-04-15 11:50:04 -0400 (Tue, 15 Apr 2025)