Package: flowPlots Version: 1.56.0 Command: /Library/Frameworks/R.framework/Resources/bin/R CMD INSTALL flowPlots StartedAt: 2025-10-13 15:06:43 -0400 (Mon, 13 Oct 2025) EndedAt: 2025-10-13 15:07:13 -0400 (Mon, 13 Oct 2025) EllapsedTime: 30.2 seconds RetCode: 0 Status: OK