Package: flowPlots Version: 1.56.0 Command: rm -rf flowPlots.buildbin-libdir && mkdir flowPlots.buildbin-libdir && /Users/biocbuild/BBS/utils/build-universal.sh flowPlots_1.56.0.tar.gz /Library/Frameworks/R.framework/Resources/bin/R flowPlots.buildbin-libdir StartedAt: 2025-10-15 18:32:14 -0400 (Wed, 15 Oct 2025) EndedAt: 2025-10-15 18:32:18 -0400 (Wed, 15 Oct 2025) EllapsedTime: 4.6 seconds RetCode: 0 Status: OK PackageFile: flowPlots_1.56.0.tgz PackageFileSize: 847.9 KiB