Package: flowPloidy Version: 1.34.0 Command: /home/biocbuild/R/R/bin/R CMD INSTALL flowPloidy StartedAt: 2025-10-13 20:26:00 -0000 (Mon, 13 Oct 2025) EndedAt: 2025-10-13 20:26:15 -0000 (Mon, 13 Oct 2025) EllapsedTime: 14.9 seconds RetCode: 0 Status: OK