Package: flowPeaks Version: 1.54.0 Command: /home/biocbuild/bbs-3.21-bioc/R/bin/R CMD check --install=check:flowPeaks.install-out.txt --library=/home/biocbuild/bbs-3.21-bioc/R/site-library --timings flowPeaks_1.54.0.tar.gz StartedAt: 2025-10-15 23:19:14 -0400 (Wed, 15 Oct 2025) EndedAt: 2025-10-15 23:19:41 -0400 (Wed, 15 Oct 2025) EllapsedTime: 27.1 seconds RetCode: 0 Status: OK CheckDir: flowPeaks.Rcheck Warnings: 0