Package: flowPeaks Version: 1.54.0 Command: /home/biocbuild/bbs-3.21-bioc/R/bin/R CMD build --keep-empty-dirs --no-resave-data flowPeaks StartedAt: 2025-10-15 17:32:54 -0400 (Wed, 15 Oct 2025) EndedAt: 2025-10-15 17:33:17 -0400 (Wed, 15 Oct 2025) EllapsedTime: 23.1 seconds RetCode: 0 Status: OK PackageFile: flowPeaks_1.54.0.tar.gz PackageFileSize: 2.709 MiB