Package: flowMerge Version: 2.56.0 Command: /home/biocbuild/bbs-3.21-bioc/R/bin/R CMD check --install=check:flowMerge.install-out.txt --library=/home/biocbuild/bbs-3.21-bioc/R/site-library --timings flowMerge_2.56.0.tar.gz StartedAt: 2025-10-15 23:19:12 -0400 (Wed, 15 Oct 2025) EndedAt: 2025-10-15 23:21:01 -0400 (Wed, 15 Oct 2025) EllapsedTime: 109.3 seconds RetCode: 0 Status: WARNINGS CheckDir: flowMerge.Rcheck Warnings: 1