Package: flowMeans Version: 1.68.0 Command: /home/biocbuild/bbs-3.21-bioc/R/bin/R CMD build --keep-empty-dirs --no-resave-data flowMeans StartedAt: 2025-10-15 17:32:46 -0400 (Wed, 15 Oct 2025) EndedAt: 2025-10-15 17:33:11 -0400 (Wed, 15 Oct 2025) EllapsedTime: 25.0 seconds RetCode: 0 Status: OK PackageFile: flowMeans_1.68.0.tar.gz PackageFileSize: 3.284 MiB