Package: flowMeans Version: 1.68.0 Command: /home/biocbuild/R/R/bin/R CMD check --install=check:flowMeans.install-out.txt --library=/home/biocbuild/R/R/site-library --no-vignettes --timings flowMeans_1.68.0.tar.gz StartedAt: 2025-10-14 09:13:43 -0000 (Tue, 14 Oct 2025) EndedAt: 2025-10-14 09:16:06 -0000 (Tue, 14 Oct 2025) EllapsedTime: 143.2 seconds RetCode: 0 Status: OK CheckDir: flowMeans.Rcheck Warnings: 0