Package: flowGraph Version: 1.16.0 Command: /Library/Frameworks/R.framework/Resources/bin/R CMD INSTALL flowGraph StartedAt: 2025-10-13 15:18:37 -0400 (Mon, 13 Oct 2025) EndedAt: 2025-10-13 15:19:28 -0400 (Mon, 13 Oct 2025) EllapsedTime: 51.8 seconds RetCode: 0 Status: OK