Package: flowGraph Version: 1.16.0 Command: /Library/Frameworks/R.framework/Resources/bin/R CMD build --keep-empty-dirs --no-resave-data flowGraph StartedAt: 2025-10-13 19:06:45 -0400 (Mon, 13 Oct 2025) EndedAt: 2025-10-13 19:08:18 -0400 (Mon, 13 Oct 2025) EllapsedTime: 93.3 seconds RetCode: 0 Status: OK PackageFile: flowGraph_1.16.0.tar.gz PackageFileSize: 2.222 MiB