Package: flowGate Version: 1.8.0 Command: /Library/Frameworks/R.framework/Resources/bin/R CMD build --keep-empty-dirs --no-resave-data flowGate StartedAt: 2025-10-13 19:06:35 -0400 (Mon, 13 Oct 2025) EndedAt: 2025-10-13 19:07:43 -0400 (Mon, 13 Oct 2025) EllapsedTime: 68.4 seconds RetCode: 0 Status: OK PackageFile: flowGate_1.8.0.tar.gz PackageFileSize: 2.404 MiB