Package: flowFP Version: 1.66.0 Command: /home/biocbuild/bbs-3.21-bioc/R/bin/R CMD check --install=check:flowFP.install-out.txt --library=/home/biocbuild/bbs-3.21-bioc/R/site-library --timings flowFP_1.66.0.tar.gz StartedAt: 2025-10-15 23:18:28 -0400 (Wed, 15 Oct 2025) EndedAt: 2025-10-15 23:19:57 -0400 (Wed, 15 Oct 2025) EllapsedTime: 89.2 seconds RetCode: 0 Status: OK CheckDir: flowFP.Rcheck Warnings: 0