Package: flowFP Version: 1.66.0 Command: /Library/Frameworks/R.framework/Resources/bin/R CMD check --install=check:flowFP.install-out.txt --library=/Library/Frameworks/R.framework/Resources/library --no-vignettes --timings flowFP_1.66.0.tar.gz StartedAt: 2025-10-14 03:54:58 -0400 (Tue, 14 Oct 2025) EndedAt: 2025-10-14 03:57:51 -0400 (Tue, 14 Oct 2025) EllapsedTime: 173.0 seconds RetCode: 0 Status: OK CheckDir: flowFP.Rcheck Warnings: 0