Package: flowFP Version: 1.66.0 Command: rm -rf flowFP.buildbin-libdir && mkdir flowFP.buildbin-libdir && /Users/biocbuild/BBS/utils/build-universal.sh flowFP_1.66.0.tar.gz /Library/Frameworks/R.framework/Resources/bin/R flowFP.buildbin-libdir StartedAt: 2025-10-14 13:28:01 -0400 (Tue, 14 Oct 2025) EndedAt: 2025-10-14 13:28:58 -0400 (Tue, 14 Oct 2025) EllapsedTime: 57.3 seconds RetCode: 0 Status: OK PackageFile: flowFP_1.66.0.tgz PackageFileSize: 5.533 MiB