Package: flowFP Version: 1.66.0 Command: /Library/Frameworks/R.framework/Resources/bin/R CMD build --keep-empty-dirs --no-resave-data flowFP StartedAt: 2025-10-14 00:30:33 -0400 (Tue, 14 Oct 2025) EndedAt: 2025-10-14 00:31:14 -0400 (Tue, 14 Oct 2025) EllapsedTime: 40.2 seconds RetCode: 0 Status: OK PackageFile: flowFP_1.66.0.tar.gz PackageFileSize: 5.132 MiB