Package: flowCut Version: 1.18.0 Command: rm -rf flowCut.buildbin-libdir && mkdir flowCut.buildbin-libdir && /Users/biocbuild/BBS/utils/build-universal.sh flowCut_1.18.0.tar.gz /Library/Frameworks/R.framework/Resources/bin/R flowCut.buildbin-libdir StartedAt: 2025-04-22 00:45:44 -0400 (Tue, 22 Apr 2025) EndedAt: 2025-04-22 00:46:00 -0400 (Tue, 22 Apr 2025) EllapsedTime: 16.3 seconds RetCode: 0 Status: OK PackageFile: flowCut_1.18.0.tgz PackageFileSize: 8.061 MiB