Package: flowCut Version: 1.18.0 Command: /home/biocbuild/R/R/bin/R CMD INSTALL flowCut StartedAt: 2025-10-13 20:26:22 -0000 (Mon, 13 Oct 2025) EndedAt: 2025-10-13 20:26:33 -0000 (Mon, 13 Oct 2025) EllapsedTime: 10.6 seconds RetCode: 0 Status: OK