Package: flowCut Version: 1.18.0 Command: /home/biocbuild/R/R/bin/R CMD check --install=check:flowCut.install-out.txt --library=/home/biocbuild/R/R/site-library --no-vignettes --timings flowCut_1.18.0.tar.gz StartedAt: 2025-10-14 09:12:53 -0000 (Tue, 14 Oct 2025) EndedAt: 2025-10-14 09:14:44 -0000 (Tue, 14 Oct 2025) EllapsedTime: 111.1 seconds RetCode: 0 Status: OK CheckDir: flowCut.Rcheck Warnings: 0