Package: flowCut Version: 1.18.0 Command: /Library/Frameworks/R.framework/Resources/bin/R CMD INSTALL flowCut StartedAt: 2025-10-13 15:37:56 -0400 (Mon, 13 Oct 2025) EndedAt: 2025-10-13 15:38:06 -0400 (Mon, 13 Oct 2025) EllapsedTime: 9.4 seconds RetCode: 0 Status: OK