Package: flowCut Version: 1.18.0 Command: /Library/Frameworks/R.framework/Resources/bin/R CMD build --keep-empty-dirs --no-resave-data flowCut StartedAt: 2025-10-14 00:30:04 -0400 (Tue, 14 Oct 2025) EndedAt: 2025-10-14 00:30:40 -0400 (Tue, 14 Oct 2025) EllapsedTime: 36.5 seconds RetCode: 0 Status: OK PackageFile: flowCut_1.18.0.tar.gz PackageFileSize: 8.384 MiB