Package: flowClust Version: 3.46.0 Command: /home/biocbuild/bbs-3.21-bioc/R/bin/R CMD check --install=check:flowClust.install-out.txt --library=/home/biocbuild/bbs-3.21-bioc/R/site-library --timings flowClust_3.46.0.tar.gz StartedAt: 2025-10-15 23:17:52 -0400 (Wed, 15 Oct 2025) EndedAt: 2025-10-15 23:20:49 -0400 (Wed, 15 Oct 2025) EllapsedTime: 177.4 seconds RetCode: 0 Status: WARNINGS CheckDir: flowClust.Rcheck Warnings: 1