Package: flowClust Version: 3.46.0 Command: /home/biocbuild/bbs-3.21-bioc/R/bin/R CMD build --keep-empty-dirs --no-resave-data flowClust StartedAt: 2025-10-15 17:32:00 -0400 (Wed, 15 Oct 2025) EndedAt: 2025-10-15 17:33:48 -0400 (Wed, 15 Oct 2025) EllapsedTime: 108.2 seconds RetCode: 0 Status: OK PackageFile: flowClust_3.46.0.tar.gz PackageFileSize: 1.727 MiB