Package: flowClust Version: 3.46.0 Command: /Library/Frameworks/R.framework/Resources/bin/R CMD check --install=check:flowClust.install-out.txt --library=/Library/Frameworks/R.framework/Resources/library --no-vignettes --timings flowClust_3.46.0.tar.gz StartedAt: 2025-10-14 21:46:37 -0400 (Tue, 14 Oct 2025) EndedAt: 2025-10-14 21:50:55 -0400 (Tue, 14 Oct 2025) EllapsedTime: 258.1 seconds RetCode: 0 Status: WARNINGS CheckDir: flowClust.Rcheck Warnings: 2