Package: flowCHIC Version: 1.42.0 Command: /home/biocbuild/bbs-3.21-bioc/R/bin/R CMD check --install=check:flowCHIC.install-out.txt --library=/home/biocbuild/bbs-3.21-bioc/R/site-library --timings flowCHIC_1.42.0.tar.gz StartedAt: 2025-10-15 23:17:39 -0400 (Wed, 15 Oct 2025) EndedAt: 2025-10-15 23:19:34 -0400 (Wed, 15 Oct 2025) EllapsedTime: 115.2 seconds RetCode: 0 Status: OK CheckDir: flowCHIC.Rcheck Warnings: 0