Package: flowBin Version: 1.44.0 Command: rm -rf flowBin.buildbin-libdir && mkdir flowBin.buildbin-libdir && E:\biocbuild\bbs-3.21-bioc\R\bin\R.exe CMD INSTALL --build --library=flowBin.buildbin-libdir flowBin_1.44.0.tar.gz StartedAt: 2025-08-15 09:17:56 -0400 (Fri, 15 Aug 2025) EndedAt: 2025-08-15 09:18:26 -0400 (Fri, 15 Aug 2025) EllapsedTime: 30.5 seconds RetCode: 0 Status: OK PackageFile: flowBin_1.44.0.zip PackageFileSize: 753.6 KiB