Package: flowBin Version: 1.44.0 Command: /home/biocbuild/bbs-3.21-bioc/R/bin/R CMD check --install=check:flowBin.install-out.txt --library=/home/biocbuild/bbs-3.21-bioc/R/site-library --timings flowBin_1.44.0.tar.gz StartedAt: 2025-10-01 23:17:56 -0400 (Wed, 01 Oct 2025) EndedAt: 2025-10-01 23:19:20 -0400 (Wed, 01 Oct 2025) EllapsedTime: 84.1 seconds RetCode: 0 Status: OK CheckDir: flowBin.Rcheck Warnings: 0