Package: flowBin Version: 1.44.0 Command: /home/biocbuild/bbs-3.21-bioc/R/bin/R CMD build --keep-empty-dirs --no-resave-data flowBin StartedAt: 2025-10-01 17:35:35 -0400 (Wed, 01 Oct 2025) EndedAt: 2025-10-01 17:35:59 -0400 (Wed, 01 Oct 2025) EllapsedTime: 24.0 seconds RetCode: 0 Status: OK PackageFile: flowBin_1.44.0.tar.gz PackageFileSize: 575.1 KiB