Package: flowBin Version: 1.44.0 Command: /Library/Frameworks/R.framework/Resources/bin/R CMD INSTALL flowBin StartedAt: 2025-10-06 15:23:09 -0400 (Mon, 06 Oct 2025) EndedAt: 2025-10-06 15:23:30 -0400 (Mon, 06 Oct 2025) EllapsedTime: 21.2 seconds RetCode: 0 Status: OK