Package: flowBin Version: 1.44.0 Command: rm -rf flowBin.buildbin-libdir && mkdir flowBin.buildbin-libdir && /Users/biocbuild/BBS/utils/build-universal.sh flowBin_1.44.0.tar.gz /Library/Frameworks/R.framework/Resources/bin/R flowBin.buildbin-libdir StartedAt: 2025-10-07 13:10:43 -0400 (Tue, 07 Oct 2025) EndedAt: 2025-10-07 13:11:17 -0400 (Tue, 07 Oct 2025) EllapsedTime: 34.3 seconds RetCode: 0 Status: OK PackageFile: flowBin_1.44.0.tgz PackageFileSize: 840.1 KiB