Package: flowBin Version: 1.44.0 Command: /Library/Frameworks/R.framework/Resources/bin/R CMD INSTALL flowBin StartedAt: 2025-04-21 15:14:35 -0400 (Mon, 21 Apr 2025) EndedAt: 2025-04-21 15:14:48 -0400 (Mon, 21 Apr 2025) EllapsedTime: 13.4 seconds RetCode: 0 Status: OK