Package: flowBin Version: 1.44.0 Command: /home/biocbuild/R/R/bin/R CMD check --install=check:flowBin.install-out.txt --library=/home/biocbuild/R/R/site-library --no-vignettes --timings flowBin_1.44.0.tar.gz StartedAt: 2025-09-30 09:40:27 -0000 (Tue, 30 Sep 2025) EndedAt: 2025-09-30 09:42:43 -0000 (Tue, 30 Sep 2025) EllapsedTime: 136.1 seconds RetCode: 0 Status: OK CheckDir: flowBin.Rcheck Warnings: 0