Package: flowBin Version: 1.44.0 Command: /home/biocbuild/R/R/bin/R CMD build --keep-empty-dirs --no-resave-data flowBin StartedAt: 2025-09-30 01:27:07 -0000 (Tue, 30 Sep 2025) EndedAt: 2025-09-30 01:27:40 -0000 (Tue, 30 Sep 2025) EllapsedTime: 33.0 seconds RetCode: 0 Status: OK PackageFile: flowBin_1.44.0.tar.gz PackageFileSize: 568 KiB