Package: flowBeads Version: 1.46.0 Command: E:\biocbuild\bbs-3.21-bioc\R\bin\R.exe CMD check --no-multiarch --install=check:flowBeads.install-out.txt --library=E:\biocbuild\bbs-3.21-bioc\R\library --no-vignettes --timings flowBeads_1.46.0.tar.gz StartedAt: 2025-08-15 02:14:18 -0400 (Fri, 15 Aug 2025) EndedAt: 2025-08-15 02:15:51 -0400 (Fri, 15 Aug 2025) EllapsedTime: 93.5 seconds RetCode: 0 Status: WARNINGS CheckDir: flowBeads.Rcheck Warnings: 2