Package: flowAI Version: 1.38.0 Command: /Library/Frameworks/R.framework/Resources/bin/R CMD INSTALL flowAI StartedAt: 2025-09-25 15:23:34 -0400 (Thu, 25 Sep 2025) EndedAt: 2025-09-25 15:24:04 -0400 (Thu, 25 Sep 2025) EllapsedTime: 30.3 seconds RetCode: 0 Status: OK