Package: flowAI Version: 1.38.0 Command: /Library/Frameworks/R.framework/Resources/bin/R CMD check --install=check:flowAI.install-out.txt --library=/Library/Frameworks/R.framework/Resources/library --no-vignettes --timings flowAI_1.38.0.tar.gz StartedAt: 2025-09-26 03:45:58 -0400 (Fri, 26 Sep 2025) EndedAt: 2025-09-26 03:48:36 -0400 (Fri, 26 Sep 2025) EllapsedTime: 158.2 seconds RetCode: 0 Status: OK CheckDir: flowAI.Rcheck Warnings: 0