Package: flowAI Version: 1.38.0 Command: /Library/Frameworks/R.framework/Resources/bin/R CMD build --keep-empty-dirs --no-resave-data flowAI StartedAt: 2025-09-25 19:03:48 -0400 (Thu, 25 Sep 2025) EndedAt: 2025-09-25 19:04:25 -0400 (Thu, 25 Sep 2025) EllapsedTime: 36.4 seconds RetCode: 0 Status: OK PackageFile: flowAI_1.38.0.tar.gz PackageFileSize: 3.748 MiB