Package: flagme Version: 1.64.0 Command: chmod a+r flagme -R && E:\biocbuild\bbs-3.21-bioc\R\bin\R.exe CMD build --keep-empty-dirs --no-resave-data flagme StartedAt: 2025-08-14 19:06:49 -0400 (Thu, 14 Aug 2025) EndedAt: 2025-08-14 19:11:37 -0400 (Thu, 14 Aug 2025) EllapsedTime: 288.3 seconds RetCode: 0 Status: OK PackageFile: flagme_1.64.0.tar.gz PackageFileSize: 426.9 KiB