Package: flagme Version: 1.64.0 Command: /home/biocbuild/bbs-3.21-bioc/R/bin/R CMD INSTALL flagme StartedAt: 2025-10-15 15:42:24 -0400 (Wed, 15 Oct 2025) EndedAt: 2025-10-15 15:43:13 -0400 (Wed, 15 Oct 2025) EllapsedTime: 48.6 seconds RetCode: 0 Status: OK