Package: flagme Version: 1.64.0 Command: /home/biocbuild/bbs-3.21-bioc/R/bin/R CMD build --keep-empty-dirs --no-resave-data flagme StartedAt: 2025-10-15 17:31:26 -0400 (Wed, 15 Oct 2025) EndedAt: 2025-10-15 17:34:51 -0400 (Wed, 15 Oct 2025) EllapsedTime: 205.3 seconds RetCode: 0 Status: OK PackageFile: flagme_1.64.0.tar.gz PackageFileSize: 726.5 KiB