Package: flagme Version: 1.64.0 Command: /Library/Frameworks/R.framework/Resources/bin/R CMD INSTALL flagme StartedAt: 2025-10-13 16:27:38 -0400 (Mon, 13 Oct 2025) EndedAt: 2025-10-13 16:29:22 -0400 (Mon, 13 Oct 2025) EllapsedTime: 104.5 seconds RetCode: 0 Status: OK