Package: flagme Version: 1.64.0 Command: /Library/Frameworks/R.framework/Resources/bin/R CMD build --keep-empty-dirs --no-resave-data flagme StartedAt: 2025-10-13 19:04:24 -0400 (Mon, 13 Oct 2025) EndedAt: 2025-10-13 19:11:04 -0400 (Mon, 13 Oct 2025) EllapsedTime: 400.0 seconds RetCode: 0 Status: OK PackageFile: flagme_1.64.0.tar.gz PackageFileSize: 725.9 KiB