Package: flagme Version: 1.64.0 Command: rm -rf flagme.buildbin-libdir && mkdir flagme.buildbin-libdir && /Users/biocbuild/BBS/utils/build-universal.sh flagme_1.64.0.tar.gz /Library/Frameworks/R.framework/Resources/bin/R flagme.buildbin-libdir StartedAt: 2025-10-15 18:30:31 -0400 (Wed, 15 Oct 2025) EndedAt: 2025-10-15 18:31:36 -0400 (Wed, 15 Oct 2025) EllapsedTime: 64.3 seconds RetCode: 0 Status: OK PackageFile: flagme_1.64.0.tgz PackageFileSize: 1.212 MiB