Package: findIPs Version: 1.4.0 Command: /home/biocbuild/bbs-3.21-bioc/R/bin/R CMD check --install=check:findIPs.install-out.txt --library=/home/biocbuild/bbs-3.21-bioc/R/site-library --timings findIPs_1.4.0.tar.gz StartedAt: 2025-10-01 23:16:21 -0400 (Wed, 01 Oct 2025) EndedAt: 2025-10-01 23:27:04 -0400 (Wed, 01 Oct 2025) EllapsedTime: 643.0 seconds RetCode: 0 Status: OK CheckDir: findIPs.Rcheck Warnings: 0