Package: findIPs Version: 1.4.0 Command: /Library/Frameworks/R.framework/Resources/bin/R CMD build --keep-empty-dirs --no-resave-data findIPs StartedAt: 2025-10-13 19:04:14 -0400 (Mon, 13 Oct 2025) EndedAt: 2025-10-13 19:15:22 -0400 (Mon, 13 Oct 2025) EllapsedTime: 668.1 seconds RetCode: 0 Status: OK PackageFile: findIPs_1.4.0.tar.gz PackageFileSize: 2.296 MiB