Package: findIPs Version: 1.4.0 Command: /Library/Frameworks/R.framework/Resources/bin/R CMD INSTALL findIPs StartedAt: 2025-04-21 15:13:40 -0400 (Mon, 21 Apr 2025) EndedAt: 2025-04-21 15:13:48 -0400 (Mon, 21 Apr 2025) EllapsedTime: 8.4 seconds RetCode: 0 Status: OK