Package: findIPs Version: 1.4.0 Command: /Library/Frameworks/R.framework/Resources/bin/R CMD build --keep-empty-dirs --no-resave-data findIPs StartedAt: 2025-10-14 00:20:19 -0400 (Tue, 14 Oct 2025) EndedAt: 2025-10-14 00:25:08 -0400 (Tue, 14 Oct 2025) EllapsedTime: 289.4 seconds RetCode: 0 Status: OK PackageFile: findIPs_1.4.0.tar.gz PackageFileSize: 2.296 MiB